BEGIN:VCALENDAR
X-WR-TIMEZONE:Asia/Riyadh
X-LOTUS-CHARSET:UTF-8
X-WR-CALNAME:The British International School of Jeddah Calendar
X-WR-CALDESC:The British International School of Jeddah Calendar
VERSION:2.0
PRODID:-//hacksw/handcal//NONSGML v1.0//EN
CALSCALE:GREGORIAN
BEGIN:VTIMEZONE
TZID:Asia/Riyadh
X-LIC-LOCATION:Asia/Riyadh
BEGIN:STANDARD
TZOFFSETFROM:+0300
TZOFFSETTO:+0300
TZNAME:AST
DTSTART:19701025T020000
RRULE:FREQ=YEARLY;BYDAY=-1SU;BYMONTH=10
END:STANDARD
END:VTIMEZONE
BEGIN:VEVENT
SUMMARY:Early Years Open Day
DTSTART;VALUE=DATE:20260610
DTEND;VALUE=DATE:20260611
END:VEVENT
END:VCALENDAR